2.438400000000
0.000000000000
0.000000000000
-2.438400000000
533709.015857788152
3804423.955204036087
