2.438400000000
0.000000000000
0.000000000000
-2.438400000000
487727.682567045380
3804311.291432540900
