2.438400000000
0.000000000000
0.000000000000
-2.438400000000
464754.625638094960
3818230.916484794100
