2.438400000000
0.000000000000
0.000000000000
-2.438400000000
487780.102004699350
3845892.634750017000
