2.438400000000
0.000000000000
0.000000000000
-2.438400000000
407552.214607994600
3846349.726840697700
