2.438400000000
0.000000000000
0.000000000000
-2.438400000000
360679.975469220950
3777613.900943995000
