2.438400000000
0.000000000000
0.000000000000
-2.438400000000
372417.532294582920
3791310.229273186500
