2.438400000000
0.000000000000
0.000000000000
-2.438400000000
315033.945905622740
3806132.321616689200
