2.438400000000
0.000000000000
0.000000000000
-2.438400000000
303805.282688902866
3820234.980157195125
