2.438400000000
0.000000000000
0.000000000000
-2.438400000000
705802.525000510160
3820744.783445288400
