2.438400000000
0.000000000000
0.000000000000
-2.438400000000
601738.994505860030
3888195.571013024500
