2.438400000000
0.000000000000
0.000000000000
-2.438400000000
407966.284662570750
3887938.754301618800
