2.438400000000
0.000000000000
0.000000000000
-2.438400000000
487934.147768224360
3970658.341198478400
