2.438400000000
0.000000000000
0.000000000000
-2.438400000000
397499.663819675217
3971246.860961745493
