2.438400000000
0.000000000000
0.000000000000
-2.438400000000
703616.843591834530
3917806.661553526800
