2.438400000000
0.000000000000
0.000000000000
-2.438400000000
532982.322302594080
3998495.606551505200
