2.438400000000
0.000000000000
0.000000000000
-2.438400000000
510415.932087847670
4053866.900009047700
