2.438400000000
0.000000000000
0.000000000000
-2.438400000000
376465.506731087170
4082461.504487337100
