2.438400000000
0.000000000000
0.000000000000
-2.438400000000
241674.013353671005
4057711.423644646070
