2.438400000000
0.000000000000
0.000000000000
-2.438400000000
732808.507545612400
4098991.990796832800
