2.438400
0.000000
0.000000
-2.438400
702793.054944
3945540.714975
