2.438400
0.000000
0.000000
-2.438400
679306.687992
3986658.881071
