2.438400
0.000000
0.000000
-2.438400
700269.160617
4056519.602537
