2.438400
0.000000
0.000000
-2.438400
755733.175779
4071972.343405
