2.43840000
0.00000000
0.00000000
-2.43840000
634057.22279681
3999615.55577954
