2.438400000000
0.000000000000
0.000000000000
-2.438400000000
697964.313606419251
4153575.597264378332
