2.438400000000
0.000000000000
0.000000000000
-2.438400000000
664691.212457462330
4166665.083106231400
