2.438400000000
0.000000000000
0.000000000000
-2.438400000000
432926.766622296826
4165044.833817822859
