2.438400000000
0.000000000000
0.000000000000
-2.438400000000
488218.179711415374
4192520.415409820154
