2.438400000000
0.000000000000
0.000000000000
-2.438400000000
651941.191577964113
4249695.867695781402
