2.438400000000
0.000000000000
0.000000000000
-2.438400000000
553208.048243751520
4303887.831110954300
