2.438400000000
0.000000000000
0.000000000000
-2.438400000000
433475.728835506365
4289900.159186205827
