2.438400000000
0.000000000000
0.000000000000
-2.438400000000
422861.224698982842
4317739.731185952201
