2.438400000000
0.000000000000
0.000000000000
-2.438400000000
401298.504891985212
4304077.407377017660
