2.438400000000
0.000000000000
0.000000000000
-2.438400000000
672112.955866314940
4333375.369060011600
