2.438400000000
0.000000000000
0.000000000000
-2.438400000000
725337.637856648420
4362582.283220875100
