2.438400000000
0.000000000000
0.000000000000
-2.438400000000
553063.894948285189
4359227.889587347396
