2.438400000000
0.000000000000
0.000000000000
-2.438400000000
574460.653029670822
4373311.881901226006
