2.438400000000
0.000000000000
0.000000000000
-2.438400000000
477579.700541439524
4386728.718009877010
