2.438400000000
0.000000000000
0.000000000000
-2.438400000000
402105.441727562050
4359563.187181558450
