2.438400000000
0.000000000000
0.000000000000
-2.438400000000
358947.996717175177
4360223.575244273990
