2.438400000000
0.000000000000
0.000000000000
-2.438400000000
348158.901755455590
4360426.428670574910
