2.438400000000
0.000000000000
0.000000000000
-2.438400000000
381159.920443963143
4401484.311829301520
