2.438400000000
0.000000000000
0.000000000000
-2.438400000000
338526.683698720356
4416139.395341935560
