2.43839999999999790
0.00000000000000000
0.00000000000000000
-2.43839999999996680
250205.99698038999000000
4335165.33971733040000000
