2.43840000
0.00000000
0.00000000
-2.43840000
272669.64231639
4362256.29013459
