2.438400000000
0.000000000000
0.000000000000
-2.438400000000
520232.356909334140
4497902.392035245900
