2.43840000
0.00000000
0.00000000
-2.43840000
275916.64232680
4473264.93138720
