2.43840000
0.00000000
0.00000000
-2.43840000
267446.50962606
4542976.20170299
