2.438400000000
0.000000000000
0.000000000000
-2.438400000000
592789.815441105631
4609616.122366675176
